BEGIN:VCALENDAR
VERSION:2.0
PRODID:icalendar-ruby
CALSCALE:GREGORIAN
METHOD:PUBLISH
BEGIN:VEVENT
DTSTAMP:20260423T215936Z
UID:13-2644049@allsaintswaterloo.ca
DTSTART:20261101T150000Z
DTEND:20261101T160000Z
CLASS:PUBLIC
CREATED:20260423T154809
DESCRIPTION:
LAST-MODIFIED:20260423T154809
LOCATION:
SUMMARY:Sunday BAS Worship with Eucharist 
URL;VALUE=URI:https://allsaintswaterloo.ca/events/sunday-bas-worship-with-e
 ucharist/2026-11-01
ATTACH;FILENAME=web-Wloo-9 (1).jpg;FMTTYPE=image/jpeg:https://dq5pwpg1q8ru0
 .cloudfront.net/2025/12/31/17/22/29/6f3f182a-d518-47f3-8c27-60d6cdf4acd7/w
 eb-Wloo-9%20(1).jpg
END:VEVENT
END:VCALENDAR
